BEGIN:VCALENDAR
VERSION:2.0
PRODID:-//RS:X Class - ECPv3.6.1//NONSGML v1.0//EN
CALSCALE:GREGORIAN
METHOD:PUBLISH
X-WR-CALNAME:RS:X Class
X-ORIGINAL-URL:http://www.rsxclass.com
X-WR-CALDESC:Events for RS:X Class
BEGIN:VEVENT
DTSTART;VALUE=DATE:20160912
DTEND;VALUE=DATE:20160919
DTSTAMP:20160918T133955
CREATED:20151124T101452
LAST-MODIFIED:20151124T101452
UID:4005-1473638400-1474243200@http://www.rsxclass.com
SUMMARY:2016 Sailing World Cup Qingdao
DESCRIPTION:ISAF World Sailing Ranking Grade: 200 pts.
URL:http://www.rsxclass.com/event/2016-sailing-world-cup-qingdao/
LOCATION:Qingdao, China
ATTACH;FMTTYPE=image/jpeg:http://www.rsxclass.com/wp-content/uploads/2015/11/SWC-Qingdao.jpg
END:VEVENT
BEGIN:VEVENT
DTSTART;VALUE=DATE:20161004
DTEND;VALUE=DATE:20161011
DTSTAMP:20160918T133955
CREATED:20160711T182813
LAST-MODIFIED:20160711T182918
UID:4703-1475539200-1476144000@http://www.rsxclass.com
SUMMARY:2016 Hong Kong Open Windsurfing Championships
DESCRIPTION:ENTRY FORM    Accommodation &amp; Transportation Form of HKO 2016
URL:http://www.rsxclass.com/event/2016-hong-kong-open-windsurfing-championships/
LOCATION:Room 1001, Olympic House, 1 Stadium Path, So Kon Po, Causeway Bay, Hong Kong, Hong Kong
ATTACH;FMTTYPE=image/png:http://www.rsxclass.com/wp-content/uploads/2016/07/HK-OPEN-2016_1b_C2.png
ORGANIZER;CN=Windsurfing Association of Hong Kong:MAILTO:wahk@windsurfing.org.hk
END:VEVENT
BEGIN:VEVENT
DTSTART;VALUE=DATE:20161013
DTEND;VALUE=DATE:20161017
DTSTAMP:20160918T133955
CREATED:20160911T151259
LAST-MODIFIED:20160911T151747
UID:5019-1476316800-1476662400@http://www.rsxclass.com
SUMMARY:2016 Enoshima Sailing Week
DESCRIPTION:Race Documents
URL:http://www.rsxclass.com/event/2016-enoshima-sailing-week/
LOCATION:Chotto Yacht Beach Club, Enoshima, Fujisawa, Kanagawa, Kanagawa, Japan
ATTACH;FMTTYPE=image/png:http://www.rsxclass.com/wp-content/uploads/2016/09/EnoshimaSailingWeek.png
END:VEVENT
BEGIN:VEVENT
DTSTART;VALUE=DATE:20161119
DTEND;VALUE=DATE:20161127
DTSTAMP:20160918T133955
CREATED:20150814T202500
LAST-MODIFIED:20160914T063439
UID:3699-1479513600-1480204800@http://www.rsxclass.com
SUMMARY:2016 RS:X Youth World Windsurfing Championships
DESCRIPTION:2016 RS:X Youth Worlds Promo Video
URL:http://www.rsxclass.com/event/2016-rsx-youth-world-championships/
LOCATION:Limassol, Cyprus
ATTACH;FMTTYPE=image/jpeg:http://www.rsxclass.com/wp-content/uploads/2014/07/RSX2016Logo-New.jpg
END:VEVENT
BEGIN:VEVENT
DTSTART;VALUE=DATE:20161204
DTEND;VALUE=DATE:20161212
DTSTAMP:20160918T133955
CREATED:20151124T102531
LAST-MODIFIED:20160621T092520
UID:4008-1480809600-1481500800@http://www.rsxclass.com
SUMMARY:2016 Sailing World Cup Final Melbourne
DESCRIPTION:ISAF World Sailing Ranking Grade: 200 pts.
URL:http://www.rsxclass.com/event/2015-sailing-world-cup-final-abu-dhabi/
LOCATION:Sandringham Yacht Club, Melbourne, Australia
ATTACH;FMTTYPE=image/png:http://www.rsxclass.com/wp-content/uploads/2015/11/SWC-Melbourne.png
END:VEVENT
BEGIN:VEVENT
DTSTART;VALUE=DATE:20170506
DTEND;VALUE=DATE:20170514
DTSTAMP:20160918T133955
CREATED:20160616T193836
LAST-MODIFIED:20160616T193853
UID:4582-1494028800-1494720000@http://www.rsxclass.com
SUMMARY:2017 RS:X European and Youth European Chapionships & Open Trophy
DESCRIPTION:Notice of Race is coming soon ...
URL:http://www.rsxclass.com/event/2017-rsx-european-and-youth-european-chapionships-open-trophy/
LOCATION:Marseille, France
END:VEVENT
BEGIN:VEVENT
DTSTART;VALUE=DATE:20170624
DTEND;VALUE=DATE:20170702
DTSTAMP:20160918T133955
CREATED:20160616T194045
LAST-MODIFIED:20160616T194045
UID:4584-1498262400-1498953600@http://www.rsxclass.com
SUMMARY:2017 RS:X Youth World Windsurfing Championships
DESCRIPTION:Notice of Race is coming soon ...
URL:http://www.rsxclass.com/event/2017-rsx-youth-world-windsurfing-championships/
LOCATION:Torbole, Italy
END:VEVENT
BEGIN:VEVENT
DTSTART;VALUE=DATE:20170916
DTEND;VALUE=DATE:20170924
DTSTAMP:20160918T133955
CREATED:20160616T194227
LAST-MODIFIED:20160616T194227
UID:4586-1505520000-1506211200@http://www.rsxclass.com
SUMMARY:2017 RS:X World Windsurfing Championships
DESCRIPTION:Notice of Race is coming soon ...
URL:http://www.rsxclass.com/event/2017-rsx-world-windsurfing-championships/
LOCATION:Enoshima, Japan
END:VEVENT
BEGIN:VEVENT
DTSTART;VALUE=DATE:20180730
DTEND;VALUE=DATE:20180813
DTSTAMP:20160918T133955
CREATED:20150704T103347
LAST-MODIFIED:20150704T103347
UID:3528-1532908800-1534118400@http://www.rsxclass.com
SUMMARY:2018 ISAF Sailing World Championships
DESCRIPTION:
URL:http://www.rsxclass.com/event/2018-isaf-sailing-world-championships/
LOCATION:Aarhus, Denmark
ATTACH;FMTTYPE=image/jpeg:http://www.rsxclass.com/wp-content/uploads/2015/07/LogoISAFWC2018.jpg
END:VEVENT
BEGIN:VEVENT
DTSTART;VALUE=DATE-TIME:
DTEND;VALUE=DATE-TIME:
DTSTAMP:20160918T133955
CREATED:0
LAST-MODIFIED:0
UID:0--@http://www.rsxclass.com
SUMMARY:
DESCRIPTION:
URL:
END:VEVENT
END:VCALENDAR